BEGIN:VCALENDAR
VERSION:2.0
PRODID:-//Kew Historical Society - ECPv5.4.0//NONSGML v1.0//EN
CALSCALE:GREGORIAN
METHOD:PUBLISH
X-WR-CALNAME:Kew Historical Society
X-ORIGINAL-URL:https://kewhistoricalsociety.org.au/khs
X-WR-CALDESC:Events for Kew Historical Society
BEGIN:VTIMEZONE
TZID:Asia/Tokyo
BEGIN:STANDARD
TZOFFSETFROM:+0900
TZOFFSETTO:+0900
TZNAME:JST
DTSTART:20190101T000000
END:STANDARD
END:VTIMEZONE
BEGIN:VEVENT
DTSTART;TZID=Asia/Tokyo:20190213T100000
DTEND;TZID=Asia/Tokyo:20190213T160000
DTSTAMP:20210302T010923
CREATED:20190209T133903Z
LAST-MODIFIED:20190209T133903Z
UID:3452-1550052000-1550073600@kewhistoricalsociety.org.au
SUMMARY:Collections Group
DESCRIPTION:
URL:https://kewhistoricalsociety.org.au/khs/calendar_entry/collections-group-10/
LOCATION:The Archive\, Civic Drive\, Kew\, Victoria\, 3101\, Australia
CATEGORIES:Activity groups,Collections
ORGANIZER;CN="Archivist":MAILTO:archivist@kewhistoricalsociety.org.au
END:VEVENT
END:VCALENDAR