BEGIN:VCALENDAR
VERSION:2.0
PRODID:-//Kew Historical Society - ECPv5.4.0//NONSGML v1.0//EN
CALSCALE:GREGORIAN
METHOD:PUBLISH
X-WR-CALNAME:Kew Historical Society
X-ORIGINAL-URL:https://kewhistoricalsociety.org.au/khs
X-WR-CALDESC:Events for Kew Historical Society
BEGIN:VTIMEZONE
TZID:Asia/Tokyo
BEGIN:STANDARD
TZOFFSETFROM:+0900
TZOFFSETTO:+0900
TZNAME:JST
DTSTART:20200101T000000
END:STANDARD
END:VTIMEZONE
BEGIN:VEVENT
DTSTART;TZID=Asia/Tokyo:20201014T100000
DTEND;TZID=Asia/Tokyo:20201014T160000
DTSTAMP:20210302T012548
CREATED:20200118T045118Z
LAST-MODIFIED:20200118T050456Z
UID:3847-1602669600-1602691200@kewhistoricalsociety.org.au
SUMMARY:Collections Group
DESCRIPTION:The Collections Group of is comprised of volunteers who are members of KHS. The group meets each Wednesday in our archive at the south end of the Kew Library. Typical tasks include accessioning\, cataloguing\, digitising and conservation. \nThe convenors of the group is Robert Baker. If you are interested in joining the group\, please contact The Archivist\, KHS. \n 
URL:https://kewhistoricalsociety.org.au/khs/calendar_entry/collections-group-11-2020-10-14/
LOCATION:KHS Office & Archive\, Civic Drive\, Kew\, VIC\, 3101\, Australia
ORGANIZER;CN="Archivist":MAILTO:archivist@kewhistoricalsociety.org.au
END:VEVENT
END:VCALENDAR