BEGIN:VCALENDAR
VERSION:2.0
PRODID:-//Kew Historical Society - ECPv5.4.0//NONSGML v1.0//EN
CALSCALE:GREGORIAN
METHOD:PUBLISH
X-WR-CALNAME:Kew Historical Society
X-ORIGINAL-URL:https://kewhistoricalsociety.org.au/khs
X-WR-CALDESC:Events for Kew Historical Society
BEGIN:VTIMEZONE
TZID:Asia/Tokyo
BEGIN:STANDARD
TZOFFSETFROM:+0900
TZOFFSETTO:+0900
TZNAME:JST
DTSTART:20190101T000000
END:STANDARD
END:VTIMEZONE
BEGIN:VEVENT
DTSTART;TZID=Asia/Tokyo:20190219T100000
DTEND;TZID=Asia/Tokyo:20190219T160000
DTSTAMP:20210302T013226
CREATED:20190209T134038Z
LAST-MODIFIED:20190209T134826Z
UID:3486-1550570400-1550592000@kewhistoricalsociety.org.au
SUMMARY:Indexing Group
DESCRIPTION:
URL:https://kewhistoricalsociety.org.au/khs/calendar_entry/indexing-group-2019-02-19/
LOCATION:KHS Office foyer\, 1 Civic Drive\, Kew\, VIC\, 3101\, Australia
ORGANIZER;CN="Archivist":MAILTO:archivist@kewhistoricalsociety.org.au
END:VEVENT
END:VCALENDAR